BEGIN:VCALENDAR
VERSION:2.0
PRODID:-//Paroquia de São João Batista da Vila Guarani - ECPv6.15.20//NONSGML v1.0//EN
CALSCALE:GREGORIAN
METHOD:PUBLISH
X-ORIGINAL-URL:https://saojoaobatistavilaguarani.com.br
X-WR-CALDESC:Eventos para Paroquia de São João Batista da Vila Guarani
REFRESH-INTERVAL;VALUE=DURATION:PT1H
X-Robots-Tag:noindex
X-PUBLISHED-TTL:PT1H
BEGIN:VTIMEZONE
TZID:America/Sao_Paulo
BEGIN:STANDARD
TZOFFSETFROM:-0200
TZOFFSETTO:-0300
TZNAME:-03
DTSTART:20180218T020000
END:STANDARD
BEGIN:DAYLIGHT
TZOFFSETFROM:-0300
TZOFFSETTO:-0200
TZNAME:-02
DTSTART:20181104T030000
END:DAYLIGHT
BEGIN:STANDARD
TZOFFSETFROM:-0200
TZOFFSETTO:-0300
TZNAME:-03
DTSTART:20190217T020000
END:STANDARD
END:VTIMEZONE
BEGIN:VEVENT
DTSTART;TZID=America/Sao_Paulo:20191025T193000
DTEND;TZID=America/Sao_Paulo:20191025T203000
DTSTAMP:20260419T090210
CREATED:20191023T023204Z
LAST-MODIFIED:20191023T024537Z
UID:3086-1572031800-1572035400@saojoaobatistavilaguarani.com.br
SUMMARY:Igreja em saída - Missa nos setores (Setor Av. Café)
DESCRIPTION:
URL:https://saojoaobatistavilaguarani.com.br/evento/igreja-em-saida-missa-nos-setores-setor-av-cafe/
LOCATION:Paróquia SJ Batista – V.Guarani\, Av. do Café\, 688\, São Paulo\, SP\, 04311-001\, Brasil
CATEGORIES:Meetings
END:VEVENT
BEGIN:VEVENT
DTSTART;VALUE=DATE:20191018
DTEND;VALUE=DATE:20191021
DTSTAMP:20260419T090210
CREATED:20190624T153242Z
LAST-MODIFIED:20190914T162344Z
UID:1887-1571356800-1571615999@saojoaobatistavilaguarani.com.br
SUMMARY:Evento para o 3º ECC da Paróquia São João Batista
DESCRIPTION:
URL:https://saojoaobatistavilaguarani.com.br/evento/evento-para-o-3o-ecc-da-paroquia-sao-joao-batista/
LOCATION:Paróquia SJ Batista – V.Guarani\, Av. do Café\, 688\, São Paulo\, SP\, 04311-001\, Brasil
CATEGORIES:Meetings
END:VEVENT
BEGIN:VEVENT
DTSTART;VALUE=DATE:20190811
DTEND;VALUE=DATE:20190818
DTSTAMP:20260419T090210
CREATED:20190624T153105Z
LAST-MODIFIED:20190624T153105Z
UID:1881-1565481600-1566086399@saojoaobatistavilaguarani.com.br
SUMMARY:SEMANA DA FAMÍLIA – Pastoral Familiar – Programação especial
DESCRIPTION:
URL:https://saojoaobatistavilaguarani.com.br/evento/semana-da-familia-pastoral-familiar-programacao-especial/
LOCATION:Paróquia SJ Batista – V.Guarani\, Av. do Café\, 688\, São Paulo\, SP\, 04311-001\, Brasil
CATEGORIES:Meetings
END:VEVENT
BEGIN:VEVENT
DTSTART;VALUE=DATE:20190810
DTEND;VALUE=DATE:20190812
DTSTAMP:20260419T090210
CREATED:20190624T153032Z
LAST-MODIFIED:20190624T153033Z
UID:1879-1565395200-1565567999@saojoaobatistavilaguarani.com.br
SUMMARY:Dia dos Pais – Homenagem em todas as missas
DESCRIPTION:
URL:https://saojoaobatistavilaguarani.com.br/evento/dia-dos-pais-homenagem-em-todas-as-missas/
LOCATION:SP
CATEGORIES:Meetings
END:VEVENT
BEGIN:VEVENT
DTSTART;TZID=America/Sao_Paulo:20190804T113000
DTEND;TZID=America/Sao_Paulo:20190804T170000
DTSTAMP:20260419T090210
CREATED:20190624T152959Z
LAST-MODIFIED:20190624T153000Z
UID:1877-1564918200-1564938000@saojoaobatistavilaguarani.com.br
SUMMARY:JBtão – Encontro para os adolescentes que já fizeram 1ª Comunhão
DESCRIPTION:
URL:https://saojoaobatistavilaguarani.com.br/evento/jbtao-encontro-para-os-adolescentes-que-ja-fizeram-1a-comunhao/
LOCATION:Paróquia SJ Batista – V.Guarani\, Av. do Café\, 688\, São Paulo\, SP\, 04311-001\, Brasil
CATEGORIES:Meetings
END:VEVENT
BEGIN:VEVENT
DTSTART;TZID=America/Sao_Paulo:20190803T180000
DTEND;TZID=America/Sao_Paulo:20190803T203000
DTSTAMP:20260419T090210
CREATED:20190624T152919Z
LAST-MODIFIED:20190624T152920Z
UID:1875-1564855200-1564864200@saojoaobatistavilaguarani.com.br
SUMMARY:CPP AMPLIADO – com todas as Lideranças  – Preparar Mês Missionário Extaordinário
DESCRIPTION:
URL:https://saojoaobatistavilaguarani.com.br/evento/cpp-ampliado-com-todas-as-liderancas-preparar-mes-missionario-extaordinario/
LOCATION:Paróquia SJ Batista – V.Guarani\, Av. do Café\, 688\, São Paulo\, SP\, 04311-001\, Brasil
CATEGORIES:Meetings
END:VEVENT
BEGIN:VEVENT
DTSTART;TZID=America/Sao_Paulo:20190713T180000
DTEND;TZID=America/Sao_Paulo:20190713T203000
DTSTAMP:20260419T090210
CREATED:20190624T152528Z
LAST-MODIFIED:20190624T152750Z
UID:1867-1563040800-1563049800@saojoaobatistavilaguarani.com.br
SUMMARY:Avaliação e Confraternização das Equipes de serviço da FESTA DE SÃO JOÃO BATISTA
DESCRIPTION:
URL:https://saojoaobatistavilaguarani.com.br/evento/avaliacao-e-confraternizacao-das-equipes-de-servico-da-festa-de-sao-joao-batista/
LOCATION:Paróquia SJ Batista – V.Guarani\, Av. do Café\, 688\, São Paulo\, SP\, 04311-001\, Brasil
CATEGORIES:Meetings
END:VEVENT
END:VCALENDAR